BEGIN:VCALENDAR
VERSION:2.0
PRODID:-//Université Populaire Africaine - ECPv6.4.0.1//NONSGML v1.0//EN
CALSCALE:GREGORIAN
METHOD:PUBLISH
X-ORIGINAL-URL:https://upaf.ch
X-WR-CALDESC:évènements pour Université Populaire Africaine
REFRESH-INTERVAL;VALUE=DURATION:PT1H
X-Robots-Tag:noindex
X-PUBLISHED-TTL:PT1H
BEGIN:VTIMEZONE
TZID:Europe/Zurich
BEGIN:DAYLIGHT
TZOFFSETFROM:+0100
TZOFFSETTO:+0200
TZNAME:CEST
DTSTART:20240331T010000
END:DAYLIGHT
BEGIN:STANDARD
TZOFFSETFROM:+0200
TZOFFSETTO:+0100
TZNAME:CET
DTSTART:20241027T010000
END:STANDARD
BEGIN:DAYLIGHT
TZOFFSETFROM:+0100
TZOFFSETTO:+0200
TZNAME:CEST
DTSTART:20250330T010000
END:DAYLIGHT
BEGIN:STANDARD
TZOFFSETFROM:+0200
TZOFFSETTO:+0100
TZNAME:CET
DTSTART:20251026T010000
END:STANDARD
END:VTIMEZONE
BEGIN:VEVENT
DTSTART;VALUE=DATE:20241101
DTEND;VALUE=DATE:20251102
DTSTAMP:20260421T141712
CREATED:20250420T173238Z
LAST-MODIFIED:20250528T005034Z
UID:10000021-1730419200-1762041599@upaf.ch
SUMMARY:Expo « Rencontres » - 2024-2025
DESCRIPTION:Exposition dès le 1er novembre 2024 au MEG \n11h00 à 18h00 \nLe Musée ethnographique de Genève (MEG) présente Rencontres\, une exposition où des\npersonnes issues de diverses communautés partagent leurs histoires personnelles autour\nd’objets issus des collections du MEG. En questionnant l&#39;autorité muséale et les pratiques\nphotographiques traditionnelles\, l&#39;exposition donne voix à celles et ceux qui renouent avec\nleur héritage culturel dans les musées.\nLe MEG invite à découvrir ces douze rencontres qui dévoilent des récits qui étaient inconnus\njusqu’à aujourd’hui. Ce sont des histoires puissantes en lien avec un lieu\, une expérience\,\nune connexion présente ou perdue\, un héritage que le MEG souhaite transmettre à son tour. \n\nLe Directeur de l’UPAF\, M. MUTOMBO Kanyana fait partie des 12 personnes choisies.
URL:https://upaf.ch/evenement/rencontres/
LOCATION:Musée d’Ethnographie de Genève (MEG)\, Blvd Carl-Vogt 67\, Genève\, CH-1205\, Suisse
ATTACH;FMTTYPE=image/jpeg:https://upaf.ch/wp-content/uploads/2025/04/rencontres-MEG-2024-teaser2.jpg
END:VEVENT
BEGIN:VEVENT
DTSTART;TZID=Europe/Zurich:20250704T180000
DTEND;TZID=Europe/Zurich:20250704T230000
DTSTAMP:20260421T141712
CREATED:20250617T194740Z
LAST-MODIFIED:20250617T202339Z
UID:10000394-1751652000-1751670000@upaf.ch
SUMMARY:Fête en l'honneur des Elu.e.s Afrodescendant.e.s
DESCRIPTION:et du nouveau Président du Conseil municipal\,\n1er Citoyen de la Ville de Genève !\nGRANDE FÊTE « UBUNTU » DE SOLIDARITE ET DE PARTAGE EN L’HONNEUR DE   :\n\nAhmed JAMA\, Premier Noir élu Président du Conseil municipal et 1er Citoyen de la Ville de Genève\n Toutes les personnes afrodescendantes élues et non-élues aux dernières élections cantonales (2024) et municipales (2025)\n Toutes personnes engagées ou non en faveur de l’inclusion de la Diversité en politique !\n\n\n\n« Ubuntu » c’est Solidarité\, Participation\, Partage\n(Je suis parce que Tu es. Tu es donc Nous sommes) :Amenez (si vous pouvez) à boire et à manger.\nPour un Grand Buffet convivial à partager ensemble.\nDans la Joie et la Bonne Humeur.\n\n\n  \nAnnoncez votre participation :\n\n\n\n\nÉvènement: 04/07 Fête en l'honneur des Elu.e.s Afrodescendant.e.s\n\n\n\n\n\n\n\n\n\n\n    Nom\n        *\n    \n    \n    \n    \n\n\n	Prénom\n		*\n	\n	\n	\n	\n\n\n    Email\n        *\n    \n    \n    \n    \n\n\n	Nombre de personne(s)\n		\n	\n	\n	\n	\n\n\n	\n\nS'inscrire à l'évènement\n\n\n\n	\n				\n				\n					Si vous êtes un humain\, ne remplissez pas ce champ.
URL:https://upaf.ch/evenement/fete-en-lhonneur-des-elu-e-s-afrodescendant-e-s/
LOCATION:Maison des Associations\, Rue des Savoises 15\, Genève\, 1205\, Switzerland
ATTACH;FMTTYPE=image/jpeg:https://upaf.ch/wp-content/uploads/2025/06/unnamed-12-e1750189622982.jpg
END:VEVENT
END:VCALENDAR